BEGIN:VCALENDAR
VERSION:2.0
PRODID:-//Trident Booksellers &amp; Cafe - ECPv6.15.20//NONSGML v1.0//EN
CALSCALE:GREGORIAN
METHOD:PUBLISH
X-WR-CALNAME:Trident Booksellers &amp; Cafe
X-ORIGINAL-URL:https://tridenthalifax.ca
X-WR-CALDESC:Events for Trident Booksellers &amp; Cafe
REFRESH-INTERVAL;VALUE=DURATION:PT1H
X-Robots-Tag:noindex
X-PUBLISHED-TTL:PT1H
BEGIN:VTIMEZONE
TZID:America/Halifax
BEGIN:DAYLIGHT
TZOFFSETFROM:-0400
TZOFFSETTO:-0300
TZNAME:ADT
DTSTART:20230312T060000
END:DAYLIGHT
BEGIN:STANDARD
TZOFFSETFROM:-0300
TZOFFSETTO:-0400
TZNAME:AST
DTSTART:20231105T050000
END:STANDARD
BEGIN:DAYLIGHT
TZOFFSETFROM:-0400
TZOFFSETTO:-0300
TZNAME:ADT
DTSTART:20240310T060000
END:DAYLIGHT
BEGIN:STANDARD
TZOFFSETFROM:-0300
TZOFFSETTO:-0400
TZNAME:AST
DTSTART:20241103T050000
END:STANDARD
BEGIN:DAYLIGHT
TZOFFSETFROM:-0400
TZOFFSETTO:-0300
TZNAME:ADT
DTSTART:20250309T060000
END:DAYLIGHT
BEGIN:STANDARD
TZOFFSETFROM:-0300
TZOFFSETTO:-0400
TZNAME:AST
DTSTART:20251102T050000
END:STANDARD
BEGIN:DAYLIGHT
TZOFFSETFROM:-0400
TZOFFSETTO:-0300
TZNAME:ADT
DTSTART:20260308T060000
END:DAYLIGHT
BEGIN:STANDARD
TZOFFSETFROM:-0300
TZOFFSETTO:-0400
TZNAME:AST
DTSTART:20261101T050000
END:STANDARD
BEGIN:DAYLIGHT
TZOFFSETFROM:-0400
TZOFFSETTO:-0300
TZNAME:ADT
DTSTART:20270314T060000
END:DAYLIGHT
BEGIN:STANDARD
TZOFFSETFROM:-0300
TZOFFSETTO:-0400
TZNAME:AST
DTSTART:20271107T050000
END:STANDARD
END:VTIMEZONE
BEGIN:VEVENT
DTSTART;TZID=America/Halifax:20260122T193000
DTEND;TZID=America/Halifax:20260122T210000
DTSTAMP:20260423T141523
CREATED:20251010T183655Z
LAST-MODIFIED:20251010T183655Z
UID:659-1769110200-1769115600@tridenthalifax.ca
SUMMARY:The Halifax Magic Club Presents: The Up Close Cabaret!
DESCRIPTION:Join us for an intimate evening of tricks and marvels from some of Halifax’s top stage magicians! \nBook your tickets in advance via Eventbrite! These events do tend to sell out\, so book early! \nhttps://www.eventbrite.ca/e/up-close-magic-cabaret-at-the-trident-live-halifax-magic-club-show-tickets-1790915308899 \nWhen: Thursday\, January 22nd 2026 @ 7:30pm\nWhere: Trident Booksellers & Cafe\, 1256 Hollis St.\nHow Much: $10
URL:https://tridenthalifax.ca/event/the-halifax-magic-club-presents-the-up-close-cabaret-5/
CATEGORIES:Theatre
ATTACH;FMTTYPE=image/jpeg:https://tridenthalifax.ca/wp-content/uploads/2025/10/Trident-January-22.jpg
END:VEVENT
BEGIN:VEVENT
DTSTART;TZID=America/Halifax:20251211T193000
DTEND;TZID=America/Halifax:20251211T210000
DTSTAMP:20260423T141523
CREATED:20251010T183504Z
LAST-MODIFIED:20251010T183504Z
UID:656-1765481400-1765486800@tridenthalifax.ca
SUMMARY:The Halifax Magic Club Presents: The Up Close Cabaret!
DESCRIPTION:Join us for an intimate evening of tricks and marvels from some of Halifax’s top stage magicians! \nBook your tickets in advance via Eventbrite! These events do tend to sell out\, so book early! \nhttps://www.eventbrite.ca/e/up-close-magic-cabaret-at-the-trident-live-halifax-magic-club-show-tickets-1790908618889 \nWhen: Thursday\, December 11th 2025 @ 7:30pm\nWhere: Trident Booksellers & Cafe\, 1256 Hollis St.\nHow Much: $10
URL:https://tridenthalifax.ca/event/the-halifax-magic-club-presents-the-up-close-cabaret-4/
CATEGORIES:Theatre
ATTACH;FMTTYPE=image/jpeg:https://tridenthalifax.ca/wp-content/uploads/2025/10/Trident-December-11.jpg
END:VEVENT
BEGIN:VEVENT
DTSTART;TZID=America/Halifax:20251120T193000
DTEND;TZID=America/Halifax:20251120T210000
DTSTAMP:20260423T141523
CREATED:20251010T183149Z
LAST-MODIFIED:20251010T183149Z
UID:653-1763667000-1763672400@tridenthalifax.ca
SUMMARY:The Halifax Magic Club Presents: The Up Close Cabaret!
DESCRIPTION:Join us for an intimate evening of tricks and marvels from some of Halifax’s top stage magicians! \nBook your tickets in advance via Eventbrite! These events do tend to sell out\, so book early! \nhttps://www.eventbrite.ca/e/up-close-magic-cabaret-at-the-trident-live-halifax-magic-club-show-tickets-1790904857639 \nWhen: Thursday\, November 20th 2025 @ 7:30pm\nWhere: Trident Booksellers & Cafe\, 1256 Hollis St.\nHow Much: $10
URL:https://tridenthalifax.ca/event/the-halifax-magic-club-presents-the-up-close-cabaret-3/
CATEGORIES:Theatre
ATTACH;FMTTYPE=image/jpeg:https://tridenthalifax.ca/wp-content/uploads/2025/10/Trident-November-20-1.jpg
END:VEVENT
BEGIN:VEVENT
DTSTART;TZID=America/Halifax:20251023T193000
DTEND;TZID=America/Halifax:20251023T210000
DTSTAMP:20260423T141523
CREATED:20251010T182928Z
LAST-MODIFIED:20251010T182928Z
UID:649-1761247800-1761253200@tridenthalifax.ca
SUMMARY:The Halifax Magic Club Presents: The Up Close Cabaret!
DESCRIPTION:Join us for an intimate evening of tricks and marvels from some of Halifax’s top stage magicians! \nBook your tickets in advance via Eventbrite! These events do tend to sell out\, so book early! \nhttps://www.eventbrite.ca/e/up-close-magic-cabaret-at-the-trident-live-halifax-magic-club-show-tickets-1778787353859 \nWhen: Thursday\, October 23rd 2025 @ 7:30pm\nWhere: Trident Booksellers & Cafe\, 1256 Hollis St.\nHow Much: $10
URL:https://tridenthalifax.ca/event/the-halifax-magic-club-presents-the-up-close-cabaret-2/
CATEGORIES:Theatre
ATTACH;FMTTYPE=image/jpeg:https://tridenthalifax.ca/wp-content/uploads/2025/10/Trident-October-23.jpg
END:VEVENT
BEGIN:VEVENT
DTSTART;TZID=America/Halifax:20250925T193000
DTEND;TZID=America/Halifax:20250925T210000
DTSTAMP:20260423T141523
CREATED:20250915T152541Z
LAST-MODIFIED:20250919T150744Z
UID:624-1758828600-1758834000@tridenthalifax.ca
SUMMARY:The Halifax Magic Club Presents: The Up Close Cabaret!
DESCRIPTION:Join us for an intimate evening of tricks and marvels from some of Halifax’s top stage magicians! \nBook your tickets in advance via Eventbrite! These events do tend to sell out\, so book early! \nhttps://www.eventbrite.ca/e/up-close-magic-cabaret-at-the-trident-live-halifax-magic-club-show-tickets-1596799092069 \nWhen: Thursday\, September 25th 2025 @ 7:30pm\nWhere: Trident Booksellers & Cafe\, 1256 Hollis St.\nHow Much: $10
URL:https://tridenthalifax.ca/event/the-halifax-magic-club-presents-the-up-close-cabaret/
CATEGORIES:Theatre
ATTACH;FMTTYPE=image/jpeg:https://tridenthalifax.ca/wp-content/uploads/2025/09/UCC-September-25.jpg
END:VEVENT
BEGIN:VEVENT
DTSTART;TZID=America/Halifax:20250827T110000
DTEND;TZID=America/Halifax:20250831T200000
DTSTAMP:20260423T141523
CREATED:20250627T000057Z
LAST-MODIFIED:20250729T152824Z
UID:530-1756292400-1756670400@tridenthalifax.ca
SUMMARY:Panopticonned Theatre Presents: Beyond The Pages @ Halifax Fringe!
DESCRIPTION:We are delighted to host Panopticonned Theatre as part of the Halifax Fringe Festival! They will be performing their all-ages show\, Beyond the Pages\, twice per day for the duration of the festival. \nFull schedule and tickets can be found at the Halifax Fringe website! \nWhen: August 27th-31st 2025\nWhere: Trident Booksellers & Cafe Halifax\, 1256 Hollis St.
URL:https://tridenthalifax.ca/event/panopticon-theatre-presents-beyond-the-pages-halifax-fringe/
CATEGORIES:Theatre
ATTACH;FMTTYPE=image/png:https://tridenthalifax.ca/wp-content/uploads/2025/06/BEYOND-THE-PAGES-Facebook-hfx.png
END:VEVENT
BEGIN:VEVENT
DTSTART;TZID=America/Halifax:20250814T193000
DTEND;TZID=America/Halifax:20250814T203000
DTSTAMP:20260423T141523
CREATED:20250626T231750Z
LAST-MODIFIED:20250705T122727Z
UID:525-1755199800-1755203400@tridenthalifax.ca
SUMMARY:Halifax Magic Club Presents: The Up Close Cabaret
DESCRIPTION:Join us for an intimate evening of tricks and marvels from some of Halifax’s top stage magicians! \nBook your tickets in advance via Eventbrite! These events do tend to sell out\, so book early! \nhttps://www.eventbrite.ca/e/1464446441729 \nWhen: Thursday\, August 14th 2025 @ 7:30pm\nWhere: Trident Booksellers & Cafe\, 1256 Hollis St.\nHow Much: $10
URL:https://tridenthalifax.ca/event/halifax-magic-club-presents-the-up-close-cabaret-2/
CATEGORIES:Theatre
ATTACH;FMTTYPE=image/jpeg:https://tridenthalifax.ca/wp-content/uploads/2025/06/August-14th-Magic.jpg
END:VEVENT
BEGIN:VEVENT
DTSTART;TZID=America/Halifax:20250717T193000
DTEND;TZID=America/Halifax:20250717T203000
DTSTAMP:20260423T141523
CREATED:20250626T231558Z
LAST-MODIFIED:20250705T122253Z
UID:523-1752780600-1752784200@tridenthalifax.ca
SUMMARY:Halifax Magic Club Presents: The Up Close Cabaret
DESCRIPTION:Join us for an intimate evening of tricks and marvels from some of Halifax’s top stage magicians! \nTickets are $10 each\, available at Eventbrite! Book soon\, as this show always sells out! \nhttps://www.eventbrite.ca/e/up-close-magic-cabaret-at-the-trident-live-halifax-magic-club-show-tickets-1464435468909 \nWhen: Thursday\, July 17th 2025 @ 7:30pm\nWhere: Trident Booksellers & Cafe\, 1256 Hollis St.\nHow Much: $10
URL:https://tridenthalifax.ca/event/halifax-magic-club-presents-the-up-close-cabaret/
CATEGORIES:Theatre
ATTACH;FMTTYPE=image/jpeg:https://tridenthalifax.ca/wp-content/uploads/2025/06/Magic-July-17.jpg
END:VEVENT
BEGIN:VEVENT
DTSTART;TZID=America/Halifax:20250619T193000
DTEND;TZID=America/Halifax:20250619T203000
DTSTAMP:20260423T141523
CREATED:20250317T212900Z
LAST-MODIFIED:20250522T135733Z
UID:432-1750361400-1750365000@tridenthalifax.ca
SUMMARY:Halifax Magic Club Presents: The Up Close Cabaret
DESCRIPTION:Join us for an intimate evening of tricks and marvels from some of Halifax’s top stage magicians! \nBook your tickets now at Eventbrite!  \nhttps://www.eventbrite.ca/e/up-close-magic-cabaret-at-trident-booksellers-cafe-live-magic-show-tickets-1374873015199 \nWhen: Thursday\, June 19th 2025 @ 7:30pm\nWhere: Trident Booksellers & Cafe\, 1256 Hollis St.\nHow Much: $10
URL:https://tridenthalifax.ca/event/halifax-magic-club-the-4th/
CATEGORIES:Theatre
ATTACH;FMTTYPE=image/jpeg:https://tridenthalifax.ca/wp-content/uploads/2025/03/June-19.jpg
END:VEVENT
BEGIN:VEVENT
DTSTART;TZID=America/Halifax:20250501T193000
DTEND;TZID=America/Halifax:20250501T203000
DTSTAMP:20260423T141523
CREATED:20250317T210141Z
LAST-MODIFIED:20250428T150744Z
UID:430-1746127800-1746131400@tridenthalifax.ca
SUMMARY:Halifax Magic Club the Third! (Ticketed event - closed to the public)
DESCRIPTION:TRIDENT\nand\nTHE HALIFAX MAGIC CLUB\npresent\nThe Up Close Cabaret! \nJoin us for an intimate evening of tricks and marvels from some of Halifax’s top stage magicians! \nFor tickets\, please visit Eventbrite! \nWhen: Thursday\, May 1st 2025 @ 7:30pm\nWhere: Trident Booksellers & Cafe\, 1256 Hollis St.\nHow Much: $10
URL:https://tridenthalifax.ca/event/halifax-magic-club-the-third/
CATEGORIES:Theatre
ATTACH;FMTTYPE=image/jpeg:https://tridenthalifax.ca/wp-content/uploads/2025/03/Magic-show-iii.jpeg
END:VEVENT
BEGIN:VEVENT
DTSTART;TZID=America/Halifax:20250327T193000
DTEND;TZID=America/Halifax:20250327T203000
DTSTAMP:20260423T141523
CREATED:20250303T233408Z
LAST-MODIFIED:20250303T233408Z
UID:405-1743103800-1743107400@tridenthalifax.ca
SUMMARY:The Halifax Magic Club presents the Second Up Close Cabaret!
DESCRIPTION:TRIDENT\nand\nTHE HALIFAX MAGIC CLUB\npresent\nThe Up Close Cabaret! \nJoin us for an intimate evening of tricks and marvels from some of Halifax’s top stage magicians! \nFor tickets\, please visit Eventbrite! \nWhen: Thursday\, March 27th 2025 @ 7:30pm\nWhere: Trident Booksellers & Cafe\, 1256 Hollis St.\nHow Much: $10
URL:https://tridenthalifax.ca/event/the-halifax-magic-club-presents-the-second-up-close-cabaret/
CATEGORIES:Theatre
END:VEVENT
BEGIN:VEVENT
DTSTART;TZID=America/Halifax:20250220T193000
DTEND;TZID=America/Halifax:20250220T203000
DTSTAMP:20260423T141523
CREATED:20250122T141047Z
LAST-MODIFIED:20250213T133107Z
UID:358-1740079800-1740083400@tridenthalifax.ca
SUMMARY:The Halifax Magic Club presents The Up Close Cabaret!
DESCRIPTION:TRIDENT\nand\nTHE HALIFAX MAGIC CLUB\npresent\nThe Up Close Cabaret! \nJoin us for an intimate evening of tricks and marvels from some of Halifax’s top stage magicians! \nFor tickets\, please visit Eventbrite! \nWhen: Thursday\, February 20th 2025 @ 7:30pm\nWhere: trident Booksellers & Cafe\, 1256 Hollis St.\nHow Much: $6.66
URL:https://tridenthalifax.ca/event/up-close-and-personal-magic-show/
CATEGORIES:Theatre
END:VEVENT
BEGIN:VEVENT
DTSTART;TZID=America/Halifax:20240627T190000
DTEND;TZID=America/Halifax:20240627T210000
DTSTAMP:20260423T141523
CREATED:20240618T215939Z
LAST-MODIFIED:20240619T125307Z
UID:251-1719514800-1719522000@tridenthalifax.ca
SUMMARY:Catherine Banks _Mountain and The Valley_ Reading and Interview
DESCRIPTION:Meet Catherine Banks\, the playwright behind a new adaptation of Ernest Bucker’s Canadian classic\, The Mountain and the Valley\, to be staged by Two Planks and a Passion theatre at the Ross Creek Centre for the Arts\, June 26th-August 11th. \nCatherine\, and Home First’s Artistic Director\, Mary Vingoe\, will discuss the new play and do a small reading of the work. Come on down for 7pm on Thursday\, June 27th to enjoy!
URL:https://tridenthalifax.ca/event/catherine-banks-_mountain-and-the-valley_-reading-and-interview/
CATEGORIES:Reading,Theatre
ATTACH;FMTTYPE=application/pdf:https://tridenthalifax.ca/wp-content/uploads/2024/06/The-Mountain-and-the-Valley-inspirations-and-excerpts.pdf
END:VEVENT
END:VCALENDAR