BEGIN:VCALENDAR
VERSION:2.0
PRODID:-//Trident Booksellers &amp; Cafe - ECPv6.15.20//NONSGML v1.0//EN
CALSCALE:GREGORIAN
METHOD:PUBLISH
X-ORIGINAL-URL:https://tridenthalifax.ca
X-WR-CALDESC:Events for Trident Booksellers &amp; Cafe
REFRESH-INTERVAL;VALUE=DURATION:PT1H
X-Robots-Tag:noindex
X-PUBLISHED-TTL:PT1H
BEGIN:VTIMEZONE
TZID:America/Halifax
BEGIN:DAYLIGHT
TZOFFSETFROM:-0400
TZOFFSETTO:-0300
TZNAME:ADT
DTSTART:20230312T060000
END:DAYLIGHT
BEGIN:STANDARD
TZOFFSETFROM:-0300
TZOFFSETTO:-0400
TZNAME:AST
DTSTART:20231105T050000
END:STANDARD
BEGIN:DAYLIGHT
TZOFFSETFROM:-0400
TZOFFSETTO:-0300
TZNAME:ADT
DTSTART:20240310T060000
END:DAYLIGHT
BEGIN:STANDARD
TZOFFSETFROM:-0300
TZOFFSETTO:-0400
TZNAME:AST
DTSTART:20241103T050000
END:STANDARD
BEGIN:DAYLIGHT
TZOFFSETFROM:-0400
TZOFFSETTO:-0300
TZNAME:ADT
DTSTART:20250309T060000
END:DAYLIGHT
BEGIN:STANDARD
TZOFFSETFROM:-0300
TZOFFSETTO:-0400
TZNAME:AST
DTSTART:20251102T050000
END:STANDARD
BEGIN:DAYLIGHT
TZOFFSETFROM:-0400
TZOFFSETTO:-0300
TZNAME:ADT
DTSTART:20260308T060000
END:DAYLIGHT
BEGIN:STANDARD
TZOFFSETFROM:-0300
TZOFFSETTO:-0400
TZNAME:AST
DTSTART:20261101T050000
END:STANDARD
BEGIN:DAYLIGHT
TZOFFSETFROM:-0400
TZOFFSETTO:-0300
TZNAME:ADT
DTSTART:20270314T060000
END:DAYLIGHT
BEGIN:STANDARD
TZOFFSETFROM:-0300
TZOFFSETTO:-0400
TZNAME:AST
DTSTART:20271107T050000
END:STANDARD
END:VTIMEZONE
BEGIN:VEVENT
DTSTART;TZID=America/Halifax:20241009T190000
DTEND;TZID=America/Halifax:20241009T210000
DTSTAMP:20260424T100127
CREATED:20240827T132602Z
LAST-MODIFIED:20240827T132602Z
UID:287-1728500400-1728507600@tridenthalifax.ca
SUMMARY:Jenny Haysom "Keep" Book Launch\, feat. Andrew Forbes!
DESCRIPTION:Join Jenny Haysom for the launch of her new novel\, Keep\, from Anansi Press! \nShe will be joined by Andrew Forbes\, launching his latest\, The Diapause\, from Invisible Publishing. \nRead about Jenny’s book in the Chronicle Herald here! \nWhen: 7pm on Wednesday\, October 9th 2024\nWhere: Trident Booksellers & Cafe\, 1256 Hollis ST.\, Halifax
URL:https://tridenthalifax.ca/event/jenny-haysom-keep-book-launch-feat-andrew-forbes/
CATEGORIES:Book Launch
END:VEVENT
BEGIN:VEVENT
DTSTART;TZID=America/Halifax:20241012T190000
DTEND;TZID=America/Halifax:20241012T210000
DTSTAMP:20260424T100127
CREATED:20241001T125025Z
LAST-MODIFIED:20241002T195103Z
UID:303-1728759600-1728766800@tridenthalifax.ca
SUMMARY:Kirby & Sue Goyette Poetry Night!
DESCRIPTION:Join poet Kirby in the launch of their highly-anticipated new collection\, She! Kirby will be joined by Sue Goyette for this evening of poetry and celebration. \nWhen: Saturday\, October 12th @ 7pm\nWhere: Trident Halifax\, 1256 Hollis St.
URL:https://tridenthalifax.ca/event/kirby-sue-goyette-poetry-night/
CATEGORIES:Book Launch,Reading
ATTACH;FMTTYPE=image/png:https://tridenthalifax.ca/wp-content/uploads/2024/10/sing.png
END:VEVENT
BEGIN:VEVENT
DTSTART;TZID=America/Halifax:20241119T190000
DTEND;TZID=America/Halifax:20241119T210000
DTSTAMP:20260424T100127
CREATED:20241022T125226Z
LAST-MODIFIED:20241022T125226Z
UID:312-1732042800-1732050000@tridenthalifax.ca
SUMMARY:Alice Burdick Launches _Ox Lost\, Snow Deep_!
DESCRIPTION:Join us for the launch of Alice Burdick’s newest poetry collection\, Ox Lost\, Snow Deep\, from Anvil Press! She will be joined by Jamie Forsythe for an evening of reading\, conversation\, and books! \nWhen: Tuesday\, November 19th @ 7pm\nWhere: Trident Halifax\, 1256 Hollis St.
URL:https://tridenthalifax.ca/event/alice-burdick-launches-_ox-lost-snow-deep_/
CATEGORIES:Book Launch,Reading
END:VEVENT
BEGIN:VEVENT
DTSTART;TZID=America/Halifax:20241127T190000
DTEND;TZID=America/Halifax:20241127T210000
DTSTAMP:20260424T100127
CREATED:20240923T141832Z
LAST-MODIFIED:20240923T141832Z
UID:293-1732734000-1732741200@tridenthalifax.ca
SUMMARY:Susanna Cupido "Window of Tolerance" Launch!
DESCRIPTION:Join us for the launch of Susanna Cupido’s Window of Tolerance from Tidewater Press! \nWhen: 7pm on November 27th 2024\nWhere: Trident Booksellers & Cafe Halifax
URL:https://tridenthalifax.ca/event/susanna-cupido-window-of-tolerance-launch/
CATEGORIES:Book Launch
END:VEVENT
BEGIN:VEVENT
DTSTART;TZID=America/Halifax:20241205T190000
DTEND;TZID=America/Halifax:20241205T210000
DTSTAMP:20260424T100127
CREATED:20241024T131532Z
LAST-MODIFIED:20241030T125733Z
UID:314-1733425200-1733432400@tridenthalifax.ca
SUMMARY:Thom Vernon w/ David Huebert: I Met Death & Sex Through My Friend\, Tom Mueley
DESCRIPTION:Join us for the launch of Thom Vernon’s new book\, I Met Death & Sex Through My Friend\, Tom Mueley\, from  Guernica Editions!  \nWhen: Thursday\, December 5th @ 7pm\nWhere: Trident Halifax\, 1256 Hollis St.
URL:https://tridenthalifax.ca/event/thom-vernon-w-shannon-webb-campbell-i-met-death-sex-through-my-friend-tom-mueley/
CATEGORIES:Book Launch,Reading
END:VEVENT
BEGIN:VEVENT
DTSTART;TZID=America/Halifax:20241218T190000
DTEND;TZID=America/Halifax:20241218T210000
DTSTAMP:20260424T100127
CREATED:20241203T164022Z
LAST-MODIFIED:20241203T164022Z
UID:332-1734548400-1734555600@tridenthalifax.ca
SUMMARY:The Cult of the Spider People with Heddy Johannesen!
DESCRIPTION:Join us on Wednesday\, December 18th for an evening with author Heddy Johannesen\, reading and discussing her latest book\, The Cult of the Spider People! \nWhen: Wednesday\, December 18th 2024 @ 7pm\nWhere: Trident Booksellers & Cafe\, 1256 Hollis St.
URL:https://tridenthalifax.ca/event/the-cult-of-the-spider-people-with-heddy-johannesen/
CATEGORIES:Book Launch,Reading
ATTACH;FMTTYPE=image/jpeg:https://tridenthalifax.ca/wp-content/uploads/2024/12/Bookcover.Spiders.jpg
END:VEVENT
BEGIN:VEVENT
DTSTART;TZID=America/Halifax:20250417T180000
DTEND;TZID=America/Halifax:20250417T200000
DTSTAMP:20260424T100127
CREATED:20250214T160412Z
LAST-MODIFIED:20250215T143504Z
UID:376-1744912800-1744920000@tridenthalifax.ca
SUMMARY:Futures of the Sun launch w/ Imre Szeman and Scott Stoneman
DESCRIPTION:Join Scott Stoneman of the Pretty Heady Stuff podcast in conversation with Imre Szeman in celebration of Szeman’s new book\, Futures of the Sun! \nWhen: Thursday\, April 17th 2025 @ 6pm\nWhere: Trident Booksellers & Cafe\, 1256 Hollis St.
URL:https://tridenthalifax.ca/event/futures-of-the-sun-launch-recording-w-imre-szeman-and-scott-stoneman/
CATEGORIES:Book Launch
END:VEVENT
BEGIN:VEVENT
DTSTART;TZID=America/Halifax:20250425T190000
DTEND;TZID=America/Halifax:20250425T203000
DTSTAMP:20260424T100127
CREATED:20250120T145504Z
LAST-MODIFIED:20250425T124517Z
UID:348-1745607600-1745613000@tridenthalifax.ca
SUMMARY:Christine Wu & Jessica Bebenek Poetry Launch!
DESCRIPTION:Join us to launch Christine Wu and Jessica Bebenek as we launch their debut poetry collections\, Familial Hungers and No One Knows Us There! \nWhen: Friday\, April 25th 2025 @ 7pm\nWhere: Trident Booksellers & Cafe\, 1256 Hollis St.
URL:https://tridenthalifax.ca/event/christine-wu-jessica-bebenek-poetry-launch/
CATEGORIES:Book Launch,Reading
END:VEVENT
BEGIN:VEVENT
DTSTART;TZID=America/Halifax:20250430T190000
DTEND;TZID=America/Halifax:20250430T203000
DTSTAMP:20260424T100127
CREATED:20250312T174318Z
LAST-MODIFIED:20250423T143414Z
UID:425-1746039600-1746045000@tridenthalifax.ca
SUMMARY:Book Launch: In Loving Riddles\, the Poems of Joseph Sherman
DESCRIPTION:Join us for the launch of In Loving Riddles: the Poems of Joseph Sherman with editor Brian Bartlett. This reading will also be a discussion and retrospective of the work of late PEI poet\, Joseph Sherman. \nFrom seven collections of poetry by Joseph Sherman (1945-2006)\, his friend and fellow poet Brian Bartlett edited a selection published by Acorn Press in the fall of 2024. We welcome you to the first Nova Scotia celebration of this book. Bartlett will discuss and read from Sherman’s poetry. Note: friends of Joe’s from the local arts community\, which Joe knew well as the inspired editor of ArtsAtlantic\, are invited to read a favourite Sherman poem and say a few words about him.\nBooks to be sold by Kings Co-op Bookstore. \nAfter his youth in Bridgewater and Sydney\, Sherman lived in New Brunswick\, where in 1970 he completed the first M.A. Creative Writing thesis at UNB. Then in Charlottetown he was a hardworking editor\, beloved\, gregarious man about town\, and poet of great verbal vigour and wide-ranging empathy. His honours included the Royal Society of Canada Silver Medal\, the Bliss Carman Award\, the Henry Fuerstenberg Award and the Order of Canada. \nWhen: Wednesday\, April 30th 2025 @ 7pm\nWhere: Trident Booksellers & Cafe\, 1256 Hollis St.
URL:https://tridenthalifax.ca/event/book-launch-in-loving-riddles-the-poems-of-joseph-sherman/
CATEGORIES:Book Launch,Reading
END:VEVENT
BEGIN:VEVENT
DTSTART;TZID=America/Halifax:20250502T190000
DTEND;TZID=America/Halifax:20250502T203000
DTSTAMP:20260424T100127
CREATED:20250428T143805Z
LAST-MODIFIED:20250428T143805Z
UID:456-1746212400-1746217800@tridenthalifax.ca
SUMMARY:Jessi Maceachern Launches Cut Side Down!
DESCRIPTION:Join us on Friday\, May 2nd 2025 for the launch of Jessi Maceachern’s new book\, Cut Side Down\, from Invisible Press! Maceachern and guest Sue Goyette will read from their newest works\, answer questions\, and sign books! \nWhen: Friday\, May 2nd 2025 @ 7pm\nWhere: Trident Booksellers & Cafe Halifax\, 1256 Hollis St.
URL:https://tridenthalifax.ca/event/jessi-maceachern-launches-cut-side-down/
CATEGORIES:Book Launch,Reading
ATTACH;FMTTYPE=image/jpeg:https://tridenthalifax.ca/wp-content/uploads/2025/04/CSD-LAUNCH-Trident-Poster-SM.jpg
END:VEVENT
BEGIN:VEVENT
DTSTART;TZID=America/Halifax:20250504T190000
DTEND;TZID=America/Halifax:20250504T210000
DTSTAMP:20260424T100127
CREATED:20250311T132831Z
LAST-MODIFIED:20250311T132831Z
UID:421-1746385200-1746392400@tridenthalifax.ca
SUMMARY:New Poetry from Chim Undi & Kayla Czaga!
DESCRIPTION:Join us to celebrate new collections from poets Chim Undi and Kayla Czaga\, both from Anansi Press! \nMidway by Kayla Czaga\nScientific Marvel by Chim Undi \nWhen: Sunday\, May 4th @ 7pm\nWhere: Trident Halifax\, 1256 Hollis St.
URL:https://tridenthalifax.ca/event/new-poetry-from-chim-undi-kayla-czaga/
CATEGORIES:Book Launch,Reading
END:VEVENT
BEGIN:VEVENT
DTSTART;TZID=America/Halifax:20250609T190000
DTEND;TZID=America/Halifax:20250609T203000
DTSTAMP:20260424T100127
CREATED:20250522T150456Z
LAST-MODIFIED:20250522T150456Z
UID:484-1749495600-1749501000@tridenthalifax.ca
SUMMARY:Launch of Caroline Topperman's Your Roots Cast a Shadow!
DESCRIPTION:Join us for the launch of Caroline Topperman’s historical memoir\, Your Roots Cast a Shadow\, from HCI Books! We will have an author reading and discussion\, Q&A\, the books for sale and an opportunity to get them signed. As always\, we will be offering our full array of treats\, cafe drinks\, and alcoholic drinks! \nWhen: Monday\, June 9th 2025 @ 7pm\nWhere: Trident Booksellers & Cafe Halifax\, 1256 Hollis St.
URL:https://tridenthalifax.ca/event/launch-of-caroline-toppermans-your-roots-cast-a-shadow/
CATEGORIES:Book Launch,Reading
ATTACH;FMTTYPE=image/png:https://tridenthalifax.ca/wp-content/uploads/2025/05/Halifax-launch-Your-Roots.png
END:VEVENT
BEGIN:VEVENT
DTSTART;TZID=America/Halifax:20250611T190000
DTEND;TZID=America/Halifax:20250611T203000
DTSTAMP:20260424T100127
CREATED:20250304T135524Z
LAST-MODIFIED:20250521T131859Z
UID:408-1749668400-1749673800@tridenthalifax.ca
SUMMARY:Launch of Iryn Tushabe's Everything Is Fine Here\, feat. Francesca Ekwuyasi
DESCRIPTION:Join us for the Halifax launch of Iryn Tushabe’s debut novel\, Everything Is Fine Here\, from Anansi Press\, joined by local superstar\, Francesca Ekwuyasi! We will have an author reading\, a Q&A\, and books for sale & for signing c/o of the King’s Co-op Bookstore. \nWhen: Wednesday\, June 11th\, 2025 @ 7pm\nWhere: Trident Halifax\, 1256 Hollis St.
URL:https://tridenthalifax.ca/event/halifax-launch-of-iryn-tushabes-everything-is-fine-here/
CATEGORIES:Book Launch,Reading
END:VEVENT
BEGIN:VEVENT
DTSTART;TZID=America/Halifax:20250620T190000
DTEND;TZID=America/Halifax:20250620T210000
DTSTAMP:20260424T100127
CREATED:20250521T140327Z
LAST-MODIFIED:20250612T145819Z
UID:477-1750446000-1750453200@tridenthalifax.ca
SUMMARY:New Poetry from Brian Bartlett\, John Wall Barger\, and Ian LeTourneau!
DESCRIPTION:Join us for a trio of new poetry launches! We have Brian Bartlett with his new collection\, The Astonishing Room\, from Frontenac House\, Ian LeTourneau with Metadata from a Changing Climate from Gaspereau Press\, and John Wall Barger with Smog Mother from Palimpsest Press. \nWhen: Friday\, June 20th @ 7pm\nWhere: Trident Booksellers & Cafe\, 1256 Hollis St.
URL:https://tridenthalifax.ca/event/new-poetry-from-brian-bartlett-john-wall-barger-and-ian-letourneau/
CATEGORIES:Book Launch,Reading
ATTACH;FMTTYPE=image/jpeg:https://tridenthalifax.ca/wp-content/uploads/2025/05/Trident-reading-scaled.jpg
END:VEVENT
BEGIN:VEVENT
DTSTART;TZID=America/Halifax:20250624T190000
DTEND;TZID=America/Halifax:20250624T200000
DTSTAMP:20260424T100127
CREATED:20250320T150934Z
LAST-MODIFIED:20250612T150802Z
UID:438-1750791600-1750795200@tridenthalifax.ca
SUMMARY:Poetry Night with Sheila Stewart\, Lorri Neilson Glenn\, and nancy viva davis halifax!
DESCRIPTION:Join poet Sheila Stewart for a launch of her latest collection\, If I Write About Father\, with guests Lorri Neilson Glenn and nancy viva davis halifax. We will have readings\, Q&As\, books for sale\, and an opportunity to get them signed! \nWhen: Tuesday\, June 214th @ 7pm\nWhere: Trident Halifax\, 1256 Hollis St.
URL:https://tridenthalifax.ca/event/poetry-night-with-sheila-stewart-and-guests/
CATEGORIES:Book Launch,Reading
ATTACH;FMTTYPE=image/jpeg:https://tridenthalifax.ca/wp-content/uploads/2025/03/flyer-for-trident-reading-24-june-2025-4.jpg
END:VEVENT
BEGIN:VEVENT
DTSTART;TZID=America/Halifax:20250809T190000
DTEND;TZID=America/Halifax:20250809T203000
DTSTAMP:20260424T100127
CREATED:20250609T151945Z
LAST-MODIFIED:20250612T150340Z
UID:498-1754766000-1754771400@tridenthalifax.ca
SUMMARY:Book Launch! Hollay Ghadery's Widow Fantasies w/ guest Annick MacAskill
DESCRIPTION:Join us for the Halifax launch of Hollay Ghadery’s short story collection\, Widow Fantasies\, joined by poet Annick MacAskill! We will have an author reading\, a Q&A\, and books for sale & for signing c/o of the King’s Co-op Bookstore. \nWhen: Saturday\, August 9th 2025 @ 7pm\nWhere: Trident Halifax\, 1256 Hollis St.
URL:https://tridenthalifax.ca/event/book-launch-hollay-ghaderys-window-fantasies-w-guest-annick-macaskill/
CATEGORIES:Book Launch,Reading
ATTACH;FMTTYPE=image/jpeg:https://tridenthalifax.ca/wp-content/uploads/2025/06/Orange-and-Yellow-Simple-Family-Event-Social-Media-Instagram-Post.jpg
END:VEVENT
BEGIN:VEVENT
DTSTART;TZID=America/Halifax:20250815T190000
DTEND;TZID=America/Halifax:20250815T203000
DTSTAMP:20260424T100127
CREATED:20250805T154043Z
LAST-MODIFIED:20250806T145846Z
UID:585-1755284400-1755289800@tridenthalifax.ca
SUMMARY:Launch Party! Monster of Elendhaven by Jennifer Giesbrecht
DESCRIPTION:Join us this Friday for the launch of the trade paperback edition of Jennifer Giesbrecht’s The Monster of Elendhaven!  \nWe’ll have themed cocktails/mocktails\, spooky donuts\, and of course\, the author on hand to sign (and sketch) copies!  \nWhen: Friday\, August 15th @ 7pm\nWhere: Trident Booksellers & Cafe\, 1256 Hollis St. Halifax
URL:https://tridenthalifax.ca/event/launch-party-monster-of-elendhaven-by-jennifer-giesbrecht/
CATEGORIES:Book Launch,Reading
ATTACH;FMTTYPE=image/png:https://tridenthalifax.ca/wp-content/uploads/2025/08/MoE-rerelease-poster-ONLINE-scaled.png
END:VEVENT
BEGIN:VEVENT
DTSTART;TZID=America/Halifax:20250818T190000
DTEND;TZID=America/Halifax:20250818T203000
DTSTAMP:20260424T100127
CREATED:20250809T145941Z
LAST-MODIFIED:20250809T145941Z
UID:593-1755543600-1755549000@tridenthalifax.ca
SUMMARY:Poetry! Samantha Jones w/ Clare Goulet and Cory Lavender
DESCRIPTION:Join us for the Halifax launch of Samantha Jones’s debut collection\, Attic Rain\, from Newest Press! She’ll be joined by local poets Clare Goulet (Graphis scripta) and Cory Lavender (Come One Thing Another) for an evening of poetry\, questions\, and book signing. \nWhen: Monday\, August 18th 2025 @ 7pm\nWhere: Trident Booksellers & Cafe\, 1256 Hollis St. Halifax
URL:https://tridenthalifax.ca/event/poetry-samantha-jones-w-clare-goulet-and-cory-lavender/
CATEGORIES:Book Launch,Poetry
END:VEVENT
BEGIN:VEVENT
DTSTART;TZID=America/Halifax:20250905T190000
DTEND;TZID=America/Halifax:20250905T203000
DTSTAMP:20260424T100127
CREATED:20250805T153405Z
LAST-MODIFIED:20250814T232402Z
UID:582-1757098800-1757104200@tridenthalifax.ca
SUMMARY:Author Reading! I Remember Lights by Ben Ladouceur\, w/ Jenny Haysom & Elliott Gish!
DESCRIPTION:Join us for the Halifax launch of Ottawa author Ben Ladouceur’s I Remember Lights\, from Book*hug press! He will be reading from the new book and joined by local legends Jenny Haysom (Keep) and Elliott Gish (Grey Dog)! \nWhen: Friday\, September 5th 2025 @ 7pm\nWhere: Trident Booksellers & Cafe\, 1256 Hollis St. Halifax
URL:https://tridenthalifax.ca/event/author-reading-i-remember-lights-by-ben-ladouceur-w-jenny-haysom-elliott-gish/
CATEGORIES:Book Launch,Reading
ATTACH;FMTTYPE=image/jpeg:https://tridenthalifax.ca/wp-content/uploads/2025/08/halifax-poster-copy.jpg
END:VEVENT
BEGIN:VEVENT
DTSTART;TZID=America/Halifax:20250920T190000
DTEND;TZID=America/Halifax:20250920T203000
DTSTAMP:20260424T100127
CREATED:20250909T140129Z
LAST-MODIFIED:20250910T145711Z
UID:619-1758394800-1758400200@tridenthalifax.ca
SUMMARY:Brandon Lorimer's "Entropic Anthropic" Book Bash!
DESCRIPTION:This Saturday night\, join us in celebrating Brandon Lorimer’s debut novel\, Entropic Anthropic! \nWhen: Saturday\, September 20th 2025 @ 7pm\nWhere: Trident Booksellers & Cafe\, 1256 Hollis St. Halifax
URL:https://tridenthalifax.ca/event/brandon-lorimers-entropic-anthropic-book-bash/
CATEGORIES:Book Launch,Celebration
ATTACH;FMTTYPE=image/png:https://tridenthalifax.ca/wp-content/uploads/2025/09/TridentPosterFull-scaled.png
END:VEVENT
BEGIN:VEVENT
DTSTART;TZID=America/Halifax:20250926T190000
DTEND;TZID=America/Halifax:20250926T203000
DTSTAMP:20260424T100127
CREATED:20250814T233802Z
LAST-MODIFIED:20250814T233802Z
UID:604-1758913200-1758918600@tridenthalifax.ca
SUMMARY:Launch: Renée Belliveau's A Sense of Things Beyond!
DESCRIPTION:We’re thrilled to welcome Renée Belliveau for the Halifax launch of her new book\, A Sense of Things Beyond\, from Nimbus Press! \nStarting at 7pm\, we’ll be having a reading\, a Q&A\, and the books for sale & signature!  \nWhen: Friday\, September 26th 2025 @ 7pm\nWhere: Trident Booksellers & Cafe\, 1256 Hollis St\, Halifax
URL:https://tridenthalifax.ca/event/launch-renee-belliveaus-a-sense-of-things-beyond/
CATEGORIES:Book Launch
END:VEVENT
BEGIN:VEVENT
DTSTART;TZID=America/Halifax:20251010T190000
DTEND;TZID=America/Halifax:20251010T203000
DTSTAMP:20260424T100127
CREATED:20250626T231057Z
LAST-MODIFIED:20251004T123553Z
UID:521-1760122800-1760128200@tridenthalifax.ca
SUMMARY:Askance Publishing Author Spotlight!
DESCRIPTION:Join us for a spotlight on three of Askance Publishing’s authors: Sheila Graham-Smith\, Shelagh Meagher\, and DJ Wiseman. Reading\, panel discussion\, and books\, books\, books! Check them out below: \nif\, after snow by Sheila Graham-Smith\nOn Hammet Shore by Shelagh Meagher\nBodies In Summer by DJ Wiseman \nWhen: Friday\, October 10th 2025 @ 7pm\nWhere: Trident Booksellers & Cafe Halifax\, 1256 Hollis St.
URL:https://tridenthalifax.ca/event/askance-publishing-author-spotlight/
CATEGORIES:Book Launch
ATTACH;FMTTYPE=image/jpeg:https://tridenthalifax.ca/wp-content/uploads/2025/06/AskanceSpotlightTrident-scaled.jpg
END:VEVENT
BEGIN:VEVENT
DTSTART;TZID=America/Halifax:20251011T190000
DTEND;TZID=America/Halifax:20251011T203000
DTSTAMP:20260424T100127
CREATED:20250918T132632Z
LAST-MODIFIED:20250919T151633Z
UID:627-1760209200-1760214600@tridenthalifax.ca
SUMMARY:Halifax Launch of Jon Redfern's The Ogre Club!
DESCRIPTION:Join us this Saturday\, October 11th for the Halifax launch of Jon Redfern’s new thriller\, The Ogre Club! \nStarting at 7pm\, we’ll have an author reading\, Q&A\, and the opportunity to buy the book and get it signed! \nWhen: Saturday\, October 11th 2025 @ 7pm\nWhere: Trident Booksellers & Cafe\, 1256 Hollis St. Halifax
URL:https://tridenthalifax.ca/event/halifax-launch-of-jon-redferns-the-ogre-club/
CATEGORIES:Book Launch
ATTACH;FMTTYPE=image/jpeg:https://tridenthalifax.ca/wp-content/uploads/2025/09/OgreClub_HalifaxLaunch-scaled.jpg
END:VEVENT
BEGIN:VEVENT
DTSTART;TZID=America/Halifax:20251024T190000
DTEND;TZID=America/Halifax:20251024T203000
DTSTAMP:20260424T100127
CREATED:20250709T154037Z
LAST-MODIFIED:20251010T131050Z
UID:570-1761332400-1761337800@tridenthalifax.ca
SUMMARY:Launch of Harry Thurston's "I Could See It Spoken"
DESCRIPTION:Join us for the launch of Harry Thurston’s latest poetry collection\, I Could See It Spoken\, from Gaspereau Press!  \nI Could See It Spoken brings together Harry Thurston’s two earliest poetry collections\, barefaced stone (1980) and Clouds Flying Before the Eye (1985)\, as well as previously uncollected poems written between 1969 and 1985. In surveying this body of work\, spanning the years from fledgling youth to middle-age\, the reader tracks the evolution of a writer’s preoccupation with the subject of time—historical\, ancestral\, seasonal and personal—and the development of one of the most iconic voices to come out of the Atlantic region in a generation. \nWhen: Friday\, October 24th 2025 @ 7pm\nWhere: Trident Booksellers & Cafe\, 1256 Hollis St. Halifax
URL:https://tridenthalifax.ca/event/launch-of-harry-thurstons-i-could-see-it-spoken/
CATEGORIES:Book Launch,Poetry,Reading
ATTACH;FMTTYPE=image/jpeg:https://tridenthalifax.ca/wp-content/uploads/2025/07/250929-Thurston-Trident-Reading-d01-scaled.jpg
END:VEVENT
BEGIN:VEVENT
DTSTART;TZID=America/Halifax:20251026T190000
DTEND;TZID=America/Halifax:20251026T203000
DTSTAMP:20260424T100127
CREATED:20250920T134919Z
LAST-MODIFIED:20250920T134919Z
UID:632-1761505200-1761510600@tridenthalifax.ca
SUMMARY:Book Talk: The Prime Ministers with J.D.M. Stewart
DESCRIPTION:Join us in hosting author and historian J.D.M. Stewart for a discussion of his newest book\, The Prime Ministers! Starting at 7pm\, we’ll have a reading\, Q&A\, and the opportunity to buy the book and get it signed. \nWhen: Sunday\, October 26th 2025 @ 7pm\nWhere: Trident Booksellers & Cafe\, 1256 Hollis S\, Halifax
URL:https://tridenthalifax.ca/event/book-talk-the-prime-ministers-with-j-d-m-stewart/
CATEGORIES:Book Launch
ATTACH;FMTTYPE=image/jpeg:https://tridenthalifax.ca/wp-content/uploads/2025/09/Halifax-Book-Talk.jpg
END:VEVENT
BEGIN:VEVENT
DTSTART;TZID=America/Halifax:20251108T190000
DTEND;TZID=America/Halifax:20251108T203000
DTSTAMP:20260424T100127
CREATED:20251028T140407Z
LAST-MODIFIED:20251108T141443Z
UID:684-1762628400-1762633800@tridenthalifax.ca
SUMMARY:Halifax Launch of Marc Bendavid's The Sapling!
DESCRIPTION:Join us for the Halifax launch of Marc Bendavid’s debut autobiographical novel\, The Sapling! Starting at 7pm\, we’ll have a reading\, Q&A\, and the opportunity to buy the book & get it signed! \nWhen: Saturday\, November 8th 2025 @ 7pm\nWhere: Trident Booksellers & cafe\, 1256 Hollis St.\, Halifax
URL:https://tridenthalifax.ca/event/halifax-launch-of-marc-bendavids-the-sapling/
CATEGORIES:Book Launch,Reading
ATTACH;FMTTYPE=image/png:https://tridenthalifax.ca/wp-content/uploads/2025/10/Sapling-Book-Launch.png
END:VEVENT
BEGIN:VEVENT
DTSTART;TZID=America/Halifax:20251114T170000
DTEND;TZID=America/Halifax:20251114T190000
DTSTAMP:20260424T100127
CREATED:20251026T003457Z
LAST-MODIFIED:20251026T003457Z
UID:681-1763139600-1763146800@tridenthalifax.ca
SUMMARY:Book Launch! He Who Would Walk the Earth by Griffin Bjerke-Clarke!
DESCRIPTION:This Friday\, November 14th\, join us for a launch of Griffin Bjerke-Clarke’s stunning debut novel\, He Who Would Walk the Earth. Griffin will be reading\, and in conversation with Jack Amos! \nWhen: Friday\, November 14th 2025 @ 5pm\nWhere: Trident Booksellers & Cafe\, 1256 Hollis ST\, Halifax
URL:https://tridenthalifax.ca/event/book-launch-he-who-would-walk-the-earth-by-griffin-bjerke-clarke/
CATEGORIES:Book Launch,Reading
ATTACH;FMTTYPE=image/png:https://tridenthalifax.ca/wp-content/uploads/2025/10/HWWWTE-Book-Launch-Trident-2.png
END:VEVENT
BEGIN:VEVENT
DTSTART;TZID=America/Halifax:20251126T190000
DTEND;TZID=America/Halifax:20251126T203000
DTSTAMP:20260424T100127
CREATED:20251028T142455Z
LAST-MODIFIED:20251028T142455Z
UID:693-1764183600-1764189000@tridenthalifax.ca
SUMMARY:Story Time for Adults\, with Shelley Thompson!
DESCRIPTION:Join us to celebrate the release of Shelley Thompson’s latest book\, Winter Sky! We will be hosting a cozy evening of reading\, company\, and cookies! \nWhen: Wednesday\, November 26th 2025 @ 7pm\nWhere: Trident Booksellers & Cafe\, 1256 Hollis St\, Halifax
URL:https://tridenthalifax.ca/event/story-time-for-adults-with-shelley-thompson/
CATEGORIES:Book Launch,Celebration
END:VEVENT
BEGIN:VEVENT
DTSTART;TZID=America/Halifax:20260411T180000
DTEND;TZID=America/Halifax:20260411T210000
DTSTAMP:20260424T100127
CREATED:20260331T235019Z
LAST-MODIFIED:20260404T140614Z
UID:918-1775930400-1775941200@tridenthalifax.ca
SUMMARY:Poetry Launch! Graeme Bezanson's Ultra Blue
DESCRIPTION:Join us Saturday\, April 11th for the launch of Graeme Bezanson’s poetry collection\, Ultra Blue\, from Anansi Press! \nWhen: Saturday\, April 11th 2026 @ 6pm\nWhere: Trident Booksellers & Cafe\, 1256 Hollis St. Halifax
URL:https://tridenthalifax.ca/event/poetry-launch-graeme-bezansons-ultra-blue/
CATEGORIES:Book Launch,Poetry
ATTACH;FMTTYPE=image/jpeg:https://tridenthalifax.ca/wp-content/uploads/2026/03/graemeb-smaller.jpg
END:VEVENT
BEGIN:VEVENT
DTSTART;TZID=America/Halifax:20260418T190000
DTEND;TZID=America/Halifax:20260418T210000
DTSTAMP:20260424T100127
CREATED:20260414T131300Z
LAST-MODIFIED:20260414T144313Z
UID:928-1776538800-1776546000@tridenthalifax.ca
SUMMARY:Book Launch! Ian Roy in conversation with Lezlie Lowe for Astrid\, Aghast.!
DESCRIPTION:Join author Ian Roy in conversation with Lezlie Lowe about Ian’s new book from Gaspereau Press\, Astrid Aghast! We’ll have conversation\, reading\, an interview\, drinks and treats\, and of course\, books! \nWhen: Saturday\, April 18th 2026 @ 7pm\nWhere: Trident Booksellers & Cafe\, 1256 Hollis S. Halifax
URL:https://tridenthalifax.ca/event/book-launch-ian-rogers-in-conversation-with-lezlie-lowe-for-astrid-aghast/
CATEGORIES:Book Launch
ATTACH;FMTTYPE=image/jpeg:https://tridenthalifax.ca/wp-content/uploads/2026/04/Ian-Roy_Halifax-Poster_small.jpg
END:VEVENT
END:VCALENDAR