BEGIN:VCALENDAR
VERSION:2.0
PRODID:-//Trident Booksellers &amp; Cafe - ECPv6.15.20//NONSGML v1.0//EN
CALSCALE:GREGORIAN
METHOD:PUBLISH
X-WR-CALNAME:Trident Booksellers &amp; Cafe
X-ORIGINAL-URL:https://tridenthalifax.ca
X-WR-CALDESC:Events for Trident Booksellers &amp; Cafe
REFRESH-INTERVAL;VALUE=DURATION:PT1H
X-Robots-Tag:noindex
X-PUBLISHED-TTL:PT1H
BEGIN:VTIMEZONE
TZID:America/Halifax
BEGIN:DAYLIGHT
TZOFFSETFROM:-0400
TZOFFSETTO:-0300
TZNAME:ADT
DTSTART:20250309T060000
END:DAYLIGHT
BEGIN:STANDARD
TZOFFSETFROM:-0300
TZOFFSETTO:-0400
TZNAME:AST
DTSTART:20251102T050000
END:STANDARD
BEGIN:DAYLIGHT
TZOFFSETFROM:-0400
TZOFFSETTO:-0300
TZNAME:ADT
DTSTART:20260308T060000
END:DAYLIGHT
BEGIN:STANDARD
TZOFFSETFROM:-0300
TZOFFSETTO:-0400
TZNAME:AST
DTSTART:20261101T050000
END:STANDARD
BEGIN:DAYLIGHT
TZOFFSETFROM:-0400
TZOFFSETTO:-0300
TZNAME:ADT
DTSTART:20270314T060000
END:DAYLIGHT
BEGIN:STANDARD
TZOFFSETFROM:-0300
TZOFFSETTO:-0400
TZNAME:AST
DTSTART:20271107T050000
END:STANDARD
END:VTIMEZONE
BEGIN:VEVENT
DTSTART;TZID=America/Halifax:20260508T183000
DTEND;TZID=America/Halifax:20260508T203000
DTSTAMP:20260421T103133
CREATED:20260305T152554Z
LAST-MODIFIED:20260305T152951Z
UID:883-1778265000-1778272200@tridenthalifax.ca
SUMMARY:Halifax launch of Marie-Josée Poisson's Blood Bound (w/ special guest Robert de la Chevotière)
DESCRIPTION:Friday\, May 8th\, join us for the Halifax launch of Montreal author Marie-Josée Poisson’s new novel\, Blood Bound\, with special guest Robert de la Chevotière\, author of Tall Is Her Body.  \nWhen: Friday\, May 8th 2026 @ 6:30pm\nWhere: Trident Booksellers & Cafe\, 1256 Hollis St. Halifax
URL:https://tridenthalifax.ca/event/halifax-launch-of-marie-josee-poissons-blood-bound-w-special-guest-robert-de-la-chevotiere/
CATEGORIES:Book Launch,Reading
ATTACH;FMTTYPE=image/png:https://tridenthalifax.ca/wp-content/uploads/2026/03/River-Street.png
END:VEVENT
END:VCALENDAR