BEGIN:VCALENDAR
VERSION:2.0
PRODID:-//Trident Booksellers &amp; Cafe - ECPv6.15.20//NONSGML v1.0//EN
CALSCALE:GREGORIAN
METHOD:PUBLISH
X-WR-CALNAME:Trident Booksellers &amp; Cafe
X-ORIGINAL-URL:https://tridenthalifax.ca
X-WR-CALDESC:Events for Trident Booksellers &amp; Cafe
REFRESH-INTERVAL;VALUE=DURATION:PT1H
X-Robots-Tag:noindex
X-PUBLISHED-TTL:PT1H
BEGIN:VTIMEZONE
TZID:America/Halifax
BEGIN:DAYLIGHT
TZOFFSETFROM:-0400
TZOFFSETTO:-0300
TZNAME:ADT
DTSTART:20230312T060000
END:DAYLIGHT
BEGIN:STANDARD
TZOFFSETFROM:-0300
TZOFFSETTO:-0400
TZNAME:AST
DTSTART:20231105T050000
END:STANDARD
BEGIN:DAYLIGHT
TZOFFSETFROM:-0400
TZOFFSETTO:-0300
TZNAME:ADT
DTSTART:20240310T060000
END:DAYLIGHT
BEGIN:STANDARD
TZOFFSETFROM:-0300
TZOFFSETTO:-0400
TZNAME:AST
DTSTART:20241103T050000
END:STANDARD
BEGIN:DAYLIGHT
TZOFFSETFROM:-0400
TZOFFSETTO:-0300
TZNAME:ADT
DTSTART:20250309T060000
END:DAYLIGHT
BEGIN:STANDARD
TZOFFSETFROM:-0300
TZOFFSETTO:-0400
TZNAME:AST
DTSTART:20251102T050000
END:STANDARD
END:VTIMEZONE
BEGIN:VEVENT
DTSTART;TZID=America/Halifax:20241205T190000
DTEND;TZID=America/Halifax:20241205T210000
DTSTAMP:20260423T172848
CREATED:20241024T131532Z
LAST-MODIFIED:20241030T125733Z
UID:314-1733425200-1733432400@tridenthalifax.ca
SUMMARY:Thom Vernon w/ David Huebert: I Met Death & Sex Through My Friend\, Tom Mueley
DESCRIPTION:Join us for the launch of Thom Vernon’s new book\, I Met Death & Sex Through My Friend\, Tom Mueley\, from  Guernica Editions!  \nWhen: Thursday\, December 5th @ 7pm\nWhere: Trident Halifax\, 1256 Hollis St.
URL:https://tridenthalifax.ca/event/thom-vernon-w-shannon-webb-campbell-i-met-death-sex-through-my-friend-tom-mueley/
CATEGORIES:Book Launch,Reading
END:VEVENT
BEGIN:VEVENT
DTSTART;TZID=America/Halifax:20241218T190000
DTEND;TZID=America/Halifax:20241218T210000
DTSTAMP:20260423T172848
CREATED:20241203T164022Z
LAST-MODIFIED:20241203T164022Z
UID:332-1734548400-1734555600@tridenthalifax.ca
SUMMARY:The Cult of the Spider People with Heddy Johannesen!
DESCRIPTION:Join us on Wednesday\, December 18th for an evening with author Heddy Johannesen\, reading and discussing her latest book\, The Cult of the Spider People! \nWhen: Wednesday\, December 18th 2024 @ 7pm\nWhere: Trident Booksellers & Cafe\, 1256 Hollis St.
URL:https://tridenthalifax.ca/event/the-cult-of-the-spider-people-with-heddy-johannesen/
CATEGORIES:Book Launch,Reading
ATTACH;FMTTYPE=image/jpeg:https://tridenthalifax.ca/wp-content/uploads/2024/12/Bookcover.Spiders.jpg
END:VEVENT
END:VCALENDAR