BEGIN:VCALENDAR
VERSION:2.0
PRODID:-//Trident Booksellers &amp; Cafe - ECPv6.15.20//NONSGML v1.0//EN
CALSCALE:GREGORIAN
METHOD:PUBLISH
X-WR-CALNAME:Trident Booksellers &amp; Cafe
X-ORIGINAL-URL:https://tridenthalifax.ca
X-WR-CALDESC:Events for Trident Booksellers &amp; Cafe
REFRESH-INTERVAL;VALUE=DURATION:PT1H
X-Robots-Tag:noindex
X-PUBLISHED-TTL:PT1H
BEGIN:VTIMEZONE
TZID:America/Halifax
BEGIN:DAYLIGHT
TZOFFSETFROM:-0400
TZOFFSETTO:-0300
TZNAME:ADT
DTSTART:20230312T060000
END:DAYLIGHT
BEGIN:STANDARD
TZOFFSETFROM:-0300
TZOFFSETTO:-0400
TZNAME:AST
DTSTART:20231105T050000
END:STANDARD
BEGIN:DAYLIGHT
TZOFFSETFROM:-0400
TZOFFSETTO:-0300
TZNAME:ADT
DTSTART:20240310T060000
END:DAYLIGHT
BEGIN:STANDARD
TZOFFSETFROM:-0300
TZOFFSETTO:-0400
TZNAME:AST
DTSTART:20241103T050000
END:STANDARD
BEGIN:DAYLIGHT
TZOFFSETFROM:-0400
TZOFFSETTO:-0300
TZNAME:ADT
DTSTART:20250309T060000
END:DAYLIGHT
BEGIN:STANDARD
TZOFFSETFROM:-0300
TZOFFSETTO:-0400
TZNAME:AST
DTSTART:20251102T050000
END:STANDARD
END:VTIMEZONE
BEGIN:VEVENT
DTSTART;TZID=America/Halifax:20241004T190000
DTEND;TZID=America/Halifax:20241004T210000
DTSTAMP:20260423T202033
CREATED:20240925T222736Z
LAST-MODIFIED:20240926T124027Z
UID:296-1728068400-1728075600@tridenthalifax.ca
SUMMARY:Book Launch: The View From Errisbeg by Sheila Graham-Smith
DESCRIPTION:Join us for the launch of Sheila Graham-Smith’s The View From Errisbeg\, from Askance Publishing! \nWhen: Friday\, October 4th 2024 @ 7pm\nWhere: Trident Booksellers & Cafe Halifax\, 1256 Hollis St.
URL:https://tridenthalifax.ca/event/book-launch-the-view-from-errisbeg-by-sheila-graham-smith/
CATEGORIES:Book Launch,Reading
END:VEVENT
BEGIN:VEVENT
DTSTART;TZID=America/Halifax:20241009T190000
DTEND;TZID=America/Halifax:20241009T210000
DTSTAMP:20260423T202033
CREATED:20240827T132602Z
LAST-MODIFIED:20240827T132602Z
UID:287-1728500400-1728507600@tridenthalifax.ca
SUMMARY:Jenny Haysom "Keep" Book Launch\, feat. Andrew Forbes!
DESCRIPTION:Join Jenny Haysom for the launch of her new novel\, Keep\, from Anansi Press! \nShe will be joined by Andrew Forbes\, launching his latest\, The Diapause\, from Invisible Publishing. \nRead about Jenny’s book in the Chronicle Herald here! \nWhen: 7pm on Wednesday\, October 9th 2024\nWhere: Trident Booksellers & Cafe\, 1256 Hollis ST.\, Halifax
URL:https://tridenthalifax.ca/event/jenny-haysom-keep-book-launch-feat-andrew-forbes/
CATEGORIES:Book Launch
END:VEVENT
BEGIN:VEVENT
DTSTART;TZID=America/Halifax:20241012T190000
DTEND;TZID=America/Halifax:20241012T210000
DTSTAMP:20260423T202033
CREATED:20241001T125025Z
LAST-MODIFIED:20241002T195103Z
UID:303-1728759600-1728766800@tridenthalifax.ca
SUMMARY:Kirby & Sue Goyette Poetry Night!
DESCRIPTION:Join poet Kirby in the launch of their highly-anticipated new collection\, She! Kirby will be joined by Sue Goyette for this evening of poetry and celebration. \nWhen: Saturday\, October 12th @ 7pm\nWhere: Trident Halifax\, 1256 Hollis St.
URL:https://tridenthalifax.ca/event/kirby-sue-goyette-poetry-night/
CATEGORIES:Book Launch,Reading
ATTACH;FMTTYPE=image/png:https://tridenthalifax.ca/wp-content/uploads/2024/10/sing.png
END:VEVENT
END:VCALENDAR