BEGIN:VCALENDAR
VERSION:2.0
PRODID:-//Trident Booksellers &amp; Cafe - ECPv6.15.20//NONSGML v1.0//EN
CALSCALE:GREGORIAN
METHOD:PUBLISH
X-WR-CALNAME:Trident Booksellers &amp; Cafe
X-ORIGINAL-URL:https://tridenthalifax.ca
X-WR-CALDESC:Events for Trident Booksellers &amp; Cafe
REFRESH-INTERVAL;VALUE=DURATION:PT1H
X-Robots-Tag:noindex
X-PUBLISHED-TTL:PT1H
BEGIN:VTIMEZONE
TZID:America/Halifax
BEGIN:DAYLIGHT
TZOFFSETFROM:-0400
TZOFFSETTO:-0300
TZNAME:ADT
DTSTART:20230312T060000
END:DAYLIGHT
BEGIN:STANDARD
TZOFFSETFROM:-0300
TZOFFSETTO:-0400
TZNAME:AST
DTSTART:20231105T050000
END:STANDARD
BEGIN:DAYLIGHT
TZOFFSETFROM:-0400
TZOFFSETTO:-0300
TZNAME:ADT
DTSTART:20240310T060000
END:DAYLIGHT
BEGIN:STANDARD
TZOFFSETFROM:-0300
TZOFFSETTO:-0400
TZNAME:AST
DTSTART:20241103T050000
END:STANDARD
BEGIN:DAYLIGHT
TZOFFSETFROM:-0400
TZOFFSETTO:-0300
TZNAME:ADT
DTSTART:20250309T060000
END:DAYLIGHT
BEGIN:STANDARD
TZOFFSETFROM:-0300
TZOFFSETTO:-0400
TZNAME:AST
DTSTART:20251102T050000
END:STANDARD
END:VTIMEZONE
BEGIN:VEVENT
DTSTART;TZID=America/Halifax:20240725T190000
DTEND;TZID=America/Halifax:20240725T210000
DTSTAMP:20260424T001131
CREATED:20240519T121746Z
LAST-MODIFIED:20240720T192607Z
UID:238-1721934000-1721941200@tridenthalifax.ca
SUMMARY:Book Launch! Aaron Kreuter & Guests
DESCRIPTION:Join GG-nominated author\, Aaron Kreuter\, in launching his new short story collection\, Rubble Children! Aaron will be joined by Annick MacAskill and Asha Jeffers in an evening of readings hosted by David Huebert.
URL:https://tridenthalifax.ca/event/book-launch-aaron-kreuter-guests/
CATEGORIES:Book Launch,Reading
ATTACH;FMTTYPE=image/jpeg:https://tridenthalifax.ca/wp-content/uploads/2024/05/rubble-childen-halifax-book-launch.jpg
END:VEVENT
END:VCALENDAR