BEGIN:VCALENDAR
VERSION:2.0
PRODID:-//Trident Booksellers &amp; Cafe - ECPv6.15.20//NONSGML v1.0//EN
CALSCALE:GREGORIAN
METHOD:PUBLISH
X-WR-CALNAME:Trident Booksellers &amp; Cafe
X-ORIGINAL-URL:https://tridenthalifax.ca
X-WR-CALDESC:Events for Trident Booksellers &amp; Cafe
REFRESH-INTERVAL;VALUE=DURATION:PT1H
X-Robots-Tag:noindex
X-PUBLISHED-TTL:PT1H
BEGIN:VTIMEZONE
TZID:America/Halifax
BEGIN:DAYLIGHT
TZOFFSETFROM:-0400
TZOFFSETTO:-0300
TZNAME:ADT
DTSTART:20230312T060000
END:DAYLIGHT
BEGIN:STANDARD
TZOFFSETFROM:-0300
TZOFFSETTO:-0400
TZNAME:AST
DTSTART:20231105T050000
END:STANDARD
BEGIN:DAYLIGHT
TZOFFSETFROM:-0400
TZOFFSETTO:-0300
TZNAME:ADT
DTSTART:20240310T060000
END:DAYLIGHT
BEGIN:STANDARD
TZOFFSETFROM:-0300
TZOFFSETTO:-0400
TZNAME:AST
DTSTART:20241103T050000
END:STANDARD
BEGIN:DAYLIGHT
TZOFFSETFROM:-0400
TZOFFSETTO:-0300
TZNAME:ADT
DTSTART:20250309T060000
END:DAYLIGHT
BEGIN:STANDARD
TZOFFSETFROM:-0300
TZOFFSETTO:-0400
TZNAME:AST
DTSTART:20251102T050000
END:STANDARD
END:VTIMEZONE
BEGIN:VEVENT
DTSTART;TZID=America/Halifax:20240608T190000
DTEND;TZID=America/Halifax:20240608T210000
DTSTAMP:20260424T013955
CREATED:20240519T120826Z
LAST-MODIFIED:20240519T120826Z
UID:236-1717873200-1717880400@tridenthalifax.ca
SUMMARY:Poetry Night at the Trident!
DESCRIPTION:A night of poetry and conversation with FOUR poets! \nLeesa Dean!\nClare Goulet!\nMichael Goodfellow!\nNatalie Rice! \nCome on down anytime after 7pm to listen\, discuss\, and get your books signed!
URL:https://tridenthalifax.ca/event/poetry-night-at-the-trident/
CATEGORIES:Book Launch,Reading
END:VEVENT
BEGIN:VEVENT
DTSTART;TZID=America/Halifax:20240626T190000
DTEND;TZID=America/Halifax:20240626T210000
DTSTAMP:20260424T013955
CREATED:20240618T214002Z
LAST-MODIFIED:20240618T214002Z
UID:248-1719428400-1719435600@tridenthalifax.ca
SUMMARY:Outcaste Book Launch
DESCRIPTION:Join us for the launch of Sheila James’s new book\, Outcaste\, from Goose Lane Editions! At 7pm on Wednesday\, June 26th\, Sheila will be in conversation with Elaine McCluskey\, reading\, and answering questions about her new book. Books available for sale as well!
URL:https://tridenthalifax.ca/event/outcaste-book-launch/
CATEGORIES:Book Launch
ATTACH;FMTTYPE=image/jpeg:https://tridenthalifax.ca/wp-content/uploads/2024/06/302-0-Launch_June_26_Banner.jpg
END:VEVENT
END:VCALENDAR