BEGIN:VCALENDAR
VERSION:2.0
PRODID:-//Trident Booksellers &amp; Cafe - ECPv6.15.20//NONSGML v1.0//EN
CALSCALE:GREGORIAN
METHOD:PUBLISH
X-ORIGINAL-URL:https://tridenthalifax.ca
X-WR-CALDESC:Events for Trident Booksellers &amp; Cafe
REFRESH-INTERVAL;VALUE=DURATION:PT1H
X-Robots-Tag:noindex
X-PUBLISHED-TTL:PT1H
BEGIN:VTIMEZONE
TZID:America/Halifax
BEGIN:DAYLIGHT
TZOFFSETFROM:-0400
TZOFFSETTO:-0300
TZNAME:ADT
DTSTART:20230312T060000
END:DAYLIGHT
BEGIN:STANDARD
TZOFFSETFROM:-0300
TZOFFSETTO:-0400
TZNAME:AST
DTSTART:20231105T050000
END:STANDARD
BEGIN:DAYLIGHT
TZOFFSETFROM:-0400
TZOFFSETTO:-0300
TZNAME:ADT
DTSTART:20240310T060000
END:DAYLIGHT
BEGIN:STANDARD
TZOFFSETFROM:-0300
TZOFFSETTO:-0400
TZNAME:AST
DTSTART:20241103T050000
END:STANDARD
BEGIN:DAYLIGHT
TZOFFSETFROM:-0400
TZOFFSETTO:-0300
TZNAME:ADT
DTSTART:20250309T060000
END:DAYLIGHT
BEGIN:STANDARD
TZOFFSETFROM:-0300
TZOFFSETTO:-0400
TZNAME:AST
DTSTART:20251102T050000
END:STANDARD
END:VTIMEZONE
BEGIN:VEVENT
DTSTART;TZID=America/Halifax:20240423T190000
DTEND;TZID=America/Halifax:20240423T210000
DTSTAMP:20260424T042737
CREATED:20240412T135139Z
LAST-MODIFIED:20240412T140216Z
UID:204-1713898800-1713906000@tridenthalifax.ca
SUMMARY:Matthew Walsh Poetry Reading
DESCRIPTION:Join us to celebrate poet Matthew Walsh’s new book\, Terrarium\, from Goose Lane Editions. \nDetails TBD!
URL:https://tridenthalifax.ca/event/matthew-walsh-poetry-signing/
CATEGORIES:Book Launch
END:VEVENT
BEGIN:VEVENT
DTSTART;TZID=America/Halifax:20240428T170000
DTEND;TZID=America/Halifax:20240428T203000
DTSTAMP:20260424T042737
CREATED:20240418T192713Z
LAST-MODIFIED:20240418T192713Z
UID:214-1714323600-1714336200@tridenthalifax.ca
SUMMARY:The Magic Nexus Digital Launch & Play-Through
DESCRIPTION:
URL:https://tridenthalifax.ca/event/the-magic-nexus-digital-launch-play-through/
CATEGORIES:Book Launch
ATTACH;FMTTYPE=image/jpeg:https://tridenthalifax.ca/wp-content/uploads/2024/04/image_123650291.jpg
END:VEVENT
END:VCALENDAR