BEGIN:VCALENDAR
VERSION:2.0
PRODID:-//Trident Booksellers &amp; Cafe - ECPv6.15.20//NONSGML v1.0//EN
CALSCALE:GREGORIAN
METHOD:PUBLISH
X-ORIGINAL-URL:https://tridenthalifax.ca
X-WR-CALDESC:Events for Trident Booksellers &amp; Cafe
REFRESH-INTERVAL;VALUE=DURATION:PT1H
X-Robots-Tag:noindex
X-PUBLISHED-TTL:PT1H
BEGIN:VTIMEZONE
TZID:America/Halifax
BEGIN:DAYLIGHT
TZOFFSETFROM:-0400
TZOFFSETTO:-0300
TZNAME:ADT
DTSTART:20240310T060000
END:DAYLIGHT
BEGIN:STANDARD
TZOFFSETFROM:-0300
TZOFFSETTO:-0400
TZNAME:AST
DTSTART:20241103T050000
END:STANDARD
BEGIN:DAYLIGHT
TZOFFSETFROM:-0400
TZOFFSETTO:-0300
TZNAME:ADT
DTSTART:20250309T060000
END:DAYLIGHT
BEGIN:STANDARD
TZOFFSETFROM:-0300
TZOFFSETTO:-0400
TZNAME:AST
DTSTART:20251102T050000
END:STANDARD
BEGIN:DAYLIGHT
TZOFFSETFROM:-0400
TZOFFSETTO:-0300
TZNAME:ADT
DTSTART:20260308T060000
END:DAYLIGHT
BEGIN:STANDARD
TZOFFSETFROM:-0300
TZOFFSETTO:-0400
TZNAME:AST
DTSTART:20261101T050000
END:STANDARD
END:VTIMEZONE
BEGIN:VEVENT
DTSTART;TZID=America/Halifax:20250306T183000
DTEND;TZID=America/Halifax:20250306T203000
DTSTAMP:20260423T171116
CREATED:20250224T132940Z
LAST-MODIFIED:20250305T190935Z
UID:388-1741285800-1741293000@tridenthalifax.ca
SUMMARY:Amruta & Ankur Art Opening\, w/ Live Music!
DESCRIPTION:Join us for a celebration and exhibit of art from artists Amruta & Ankur\, accompanied by live music inspired by the work by local artist\, Sajal! \nTickets at the door $10 or Pay What You Can. \nWhen: Thursday\, March 6th 2025 @ 6:30pm\nWhere: Trident Halifax\, 1256 Hollis St.
URL:https://tridenthalifax.ca/event/amruta-ankur-art-opening-w-live-music/
CATEGORIES:Art Show,Music
END:VEVENT
END:VCALENDAR