BEGIN:VCALENDAR
VERSION:2.0
PRODID:-//Trident Booksellers &amp; Cafe - ECPv6.15.20//NONSGML v1.0//EN
CALSCALE:GREGORIAN
METHOD:PUBLISH
X-ORIGINAL-URL:https://tridenthalifax.ca
X-WR-CALDESC:Events for Trident Booksellers &amp; Cafe
REFRESH-INTERVAL;VALUE=DURATION:PT1H
X-Robots-Tag:noindex
X-PUBLISHED-TTL:PT1H
BEGIN:VTIMEZONE
TZID:America/Halifax
BEGIN:DAYLIGHT
TZOFFSETFROM:-0400
TZOFFSETTO:-0300
TZNAME:ADT
DTSTART:20230312T060000
END:DAYLIGHT
BEGIN:STANDARD
TZOFFSETFROM:-0300
TZOFFSETTO:-0400
TZNAME:AST
DTSTART:20231105T050000
END:STANDARD
BEGIN:DAYLIGHT
TZOFFSETFROM:-0400
TZOFFSETTO:-0300
TZNAME:ADT
DTSTART:20240310T060000
END:DAYLIGHT
BEGIN:STANDARD
TZOFFSETFROM:-0300
TZOFFSETTO:-0400
TZNAME:AST
DTSTART:20241103T050000
END:STANDARD
BEGIN:DAYLIGHT
TZOFFSETFROM:-0400
TZOFFSETTO:-0300
TZNAME:ADT
DTSTART:20250309T060000
END:DAYLIGHT
BEGIN:STANDARD
TZOFFSETFROM:-0300
TZOFFSETTO:-0400
TZNAME:AST
DTSTART:20251102T050000
END:STANDARD
END:VTIMEZONE
BEGIN:VEVENT
DTSTART;TZID=America/Halifax:20241019T180000
DTEND;TZID=America/Halifax:20241020T000000
DTSTAMP:20260423T235145
CREATED:20240926T125421Z
LAST-MODIFIED:20240926T125421Z
UID:301-1729360800-1729382400@tridenthalifax.ca
SUMMARY:Nocturne: The Painted World of Jupiter V
DESCRIPTION:Multi-dimensional artist Jupiter V struts out a selection of their painted works. \nJupiter V is a queer\, Canadian\, multi-disciplinary artist based out of K’jipuktuk/Halifax\, Nova Scotia. They make digital and traditional visual art\, ranging from comic books to murals\, and are also an accomplished recording artist and performer. Co-operating with the Trident Cafe\, a selection of their painted works from recent years will be on display for the public’s quiet contemplation from 6pm-midnight on October 19th as part of the Nocturne festival\, and remaining on display for two weeks. \nWhen: Saturday\, October 19th @6pm-midnight\nWhere: trident Booksellers & Cafe\, 1256 Hollis St. Halifax
URL:https://tridenthalifax.ca/event/nocturne-the-painted-world-of-jupiter-v/
CATEGORIES:Art Show
END:VEVENT
END:VCALENDAR